BEGIN:VCALENDAR
VERSION:2.0
PRODID:GlueUp
CALSCALE:GREGORIAN
BEGIN:VTIMEZONE
TZID:UTC
BEGIN:STANDARD
DTSTART:19700101T000000
TZOFFSETFROM:+0000
TZOFFSETTO:+0000
TZNAME:UTC
END:STANDARD
END:VTIMEZONE
BEGIN:VEVENT
TZ:+00
ORGANIZER;CN=Rocky Liu:MAILTO:rocky@dccc.com.cn
UID:50057-1776731043@https://dccc.glueup.cn
DTSTAMP:20260421T002403Z
DTSTART:20260414T053000Z
DTEND:20260414T093500Z
SUMMARY:04.14 BJ | The Multinational Carbon Neutral 50 Forum (MNC50) - Thematic Salon on Zero-Carbon Industrial Parks跨国公司碳中和50人论坛零碳园区主题沙龙
DESCRIPTION:04.14 BJ | The Multinational Carbon Neutral 50 Forum (MNC50) - Thematic Salon on Zero-Carbon Industrial Parks跨国公司碳中和50人论坛零碳园区主题沙龙 by Danish Chamber of Commerce in China\n\nApr 14, 2026 (1:30 PM - 5:35 PM)(GMT+8)\n\nFor more information, click here: https://dccc.glueup.cn/my/events/50057
LOCATION:富华大厦 - 北京东城朝阳门北大街8号富华大厦C座16层会议室 - Conference Room 16th Floor - Building C - Fuhua Mansion - No. 8 Chaoyangmen North Street - Dongcheng District - Beijing. Beijing - China
BEGIN:VALARM
TRIGGER:-PT48H
REPEAT:4
DURATION:PT30M
ACTION:DISPLAY
END:VALARM
END:VEVENT
END:VCALENDAR