BEGIN:VCALENDAR
VERSION:2.0
PRODID:GlueUp
CALSCALE:GREGORIAN
BEGIN:VTIMEZONE
TZID:UTC
BEGIN:STANDARD
DTSTART:19700101T000000
TZOFFSETFROM:+0000
TZOFFSETTO:+0000
TZNAME:UTC
END:STANDARD
END:VTIMEZONE
BEGIN:VEVENT
TZ:+00
ORGANIZER;CN=Rocky Liu:MAILTO:rocky@dccc.com.cn
UID:50094-1776948644@https://dccc.glueup.cn
DTSTAMP:20260423T125044Z
DTSTART:20260423T100000Z
DTEND:20260423T120000Z
SUMMARY:04.23 BJ | Executive Dialogue: Key Insights into Denmark's Electrification of Society and China's 15th Five-Year-Plan
DESCRIPTION:04.23 BJ | Executive Dialogue: Key Insights into Denmark's Electrification of Society and China's 15th Five-Year-Plan by Danish Chamber of Commerce in China\n\nApr 23, 2026 (6:00 PM - 8:00 PM)(GMT+8)\n\nFor more information, click here: https://dccc.glueup.cn/my/events/50094
LOCATION:Jing A Wangjing Brewery - Unit 109 & 116 - 1st Floor - Building 10 - Futong West Street - Chaoyang District - Beijing - China - 京A望京店：北京朝阳区阜通西大街10号楼一层(01)109、116 Beijing - China
BEGIN:VALARM
TRIGGER:-PT48H
REPEAT:4
DURATION:PT30M
ACTION:DISPLAY
END:VALARM
END:VEVENT
END:VCALENDAR