BEGIN:VCALENDAR
VERSION:2.0
PRODID:GlueUp
CALSCALE:GREGORIAN
BEGIN:VTIMEZONE
TZID:UTC
BEGIN:STANDARD
DTSTART:19700101T000000
TZOFFSETFROM:+0000
TZOFFSETTO:+0000
TZNAME:UTC
END:STANDARD
END:VTIMEZONE
BEGIN:VEVENT
TZ:+00
ORGANIZER;CN=Tina Wu:MAILTO:tina@dccc.com.cn
UID:50237-1776784667@https://dccc.glueup.cn
DTSTAMP:20260421T151747Z
DTSTART:20260508T010000Z
DTEND:20260508T035500Z
SUMMARY:05.08 Beijing | Reimagining China–EU Business in the Age of AI: Industrial Transformation and Strategic Collaboration
DESCRIPTION:05.08 Beijing | Reimagining China–EU Business in the Age of AI: Industrial Transformation and Strategic Collaboration by Danish Chamber of Commerce in China\n\nMay 8, 2026 (9:00 AM - 11:55 AM)(GMT+8)\n\nFor more information, click here: https://dccc.glueup.cn/my/events/50237
LOCATION:Kempinski Hotel - Jade Ballroom - Kempinski Hotel - Beijing Yansha Center 北京燕莎中心凯宾斯基饭店翡翠宴会厅 Beijing - China
BEGIN:VALARM
TRIGGER:-PT48H
REPEAT:4
DURATION:PT30M
ACTION:DISPLAY
END:VALARM
END:VEVENT
END:VCALENDAR