BEGIN:VCALENDAR
VERSION:2.0
PRODID:GlueUp
CALSCALE:GREGORIAN
BEGIN:VTIMEZONE
TZID:UTC
BEGIN:STANDARD
DTSTART:19700101T000000
TZOFFSETFROM:+0000
TZOFFSETTO:+0000
TZNAME:UTC
END:STANDARD
END:VTIMEZONE
BEGIN:VEVENT
TZ:+00
ORGANIZER;CN=Rocky Liu:MAILTO:rocky@dccc.com.cn
UID:36169-1776691791@https://dccc.glueup.cn
DTSTAMP:20260420T132951Z
DTSTART:20220517T070000Z
DTEND:20220517T080000Z
SUMMARY:Webinar 05.17 | Digital Transformation: Pathway/Key to achieve your corporate sustainable development goals
DESCRIPTION:Webinar 05.17 | Digital Transformation: Pathway/Key to achieve your corporate sustainable development goals by Danish Chamber of Commerce in China\n\nMay 17, 2022 (3:00 PM - 4:00 PM)(GMT+8)\n\nFor more information, click here: https://dccc.glueup.cn/my/events/36169
LOCATION:Zoom (Online) - China
BEGIN:VALARM
TRIGGER:-PT48H
REPEAT:4
DURATION:PT30M
ACTION:DISPLAY
END:VALARM
END:VEVENT
END:VCALENDAR